BEGIN:VCALENDAR
VERSION:2.0
PRODID:-//TARYN HUBBARD - ECPv6.15.20//NONSGML v1.0//EN
CALSCALE:GREGORIAN
METHOD:PUBLISH
X-WR-CALNAME:TARYN HUBBARD
X-ORIGINAL-URL:https://tarynhubbard.com
X-WR-CALDESC:Events for TARYN HUBBARD
REFRESH-INTERVAL;VALUE=DURATION:PT1H
X-Robots-Tag:noindex
X-PUBLISHED-TTL:PT1H
BEGIN:VTIMEZONE
TZID:America/Vancouver
BEGIN:DAYLIGHT
TZOFFSETFROM:-0800
TZOFFSETTO:-0700
TZNAME:PDT
DTSTART:20240310T100000
END:DAYLIGHT
BEGIN:STANDARD
TZOFFSETFROM:-0700
TZOFFSETTO:-0800
TZNAME:PST
DTSTART:20241103T090000
END:STANDARD
BEGIN:DAYLIGHT
TZOFFSETFROM:-0800
TZOFFSETTO:-0700
TZNAME:PDT
DTSTART:20250309T100000
END:DAYLIGHT
BEGIN:STANDARD
TZOFFSETFROM:-0700
TZOFFSETTO:-0800
TZNAME:PST
DTSTART:20251102T090000
END:STANDARD
BEGIN:DAYLIGHT
TZOFFSETFROM:-0800
TZOFFSETTO:-0700
TZNAME:PDT
DTSTART:20260308T100000
END:DAYLIGHT
BEGIN:STANDARD
TZOFFSETFROM:-0700
TZOFFSETTO:-0800
TZNAME:PST
DTSTART:20261101T090000
END:STANDARD
END:VTIMEZONE
BEGIN:VEVENT
DTSTART;TZID=America/Vancouver:20251108T100000
DTEND;TZID=America/Vancouver:20251108T150000
DTSTAMP:20260420T012033
CREATED:20250929T134719Z
LAST-MODIFIED:20250929T134811Z
UID:768-1762596000-1762614000@tarynhubbard.com
SUMMARY:Fraser Valley Writers Festival
DESCRIPTION:The Fraser Valley Writers Festival is an annual two-day literary festival featuring keynote addresses\, readings\, panel discussions\, writing workshops\, live podcast recordings\, and more\, hosted at the Abbotsford campus of the University of the Fraser Valley.  \nI will be participating in this festival in a panel reading and discussion of new work on the theme of “Sound.” I will also chair another panel on the theme of “Silence.”
URL:https://tarynhubbard.com/event/fraser-valley-writers-festival/
LOCATION:University of the Fraser Valley – Abbotsford Campus\, 33844 King Road\, Abbotsford\, BC\, Canada
CATEGORIES:festival,readings,signing,workshop
ATTACH;FMTTYPE=image/avif:https://tarynhubbard.com/wp-content/uploads/2025/09/FVWF.avif
END:VEVENT
END:VCALENDAR